BEGIN:VCALENDAR
VERSION:2.0
PRODID:-//Squarespace Inc/Squarespace 6//v6//EN
BEGIN:VEVENT
UID:6020d1d7be1da5566af8420f@squarespace.com
DTSTAMP:20210208T055906Z
DTSTART:20210413T020000Z
DTEND:20210414T060000Z
SUMMARY:Writing with Josephine Clarke
GEO:-31.889102;116.05448
LOCATION:Swan View Youth Centre\, Salisbury Road\, Swan View\, Western Aust
 ralia\, Australia
END:VEVENT
END:VCALENDAR
