BEGIN:VCALENDAR
VERSION:2.0
PRODID:-//Squarespace Inc/Squarespace 6//v6//EN
BEGIN:VEVENT
UID:5f476f85641dc22ef3beed82@squarespace.com
DTSTAMP:20200922T083817Z
DTSTART:20201004T010000Z
DTEND:20201004T050000Z
SUMMARY:Wildflower Walk &amp\; Stitch with Susie Vickery &amp\; Trish Bygot
 t
GEO:-31.902098;116.166031
LOCATION:Mundaring Arts Centre
END:VEVENT
END:VCALENDAR
