BEGIN:VCALENDAR
VERSION:2.0
PRODID:-//Squarespace Inc/Squarespace 6//v6//EN
BEGIN:VEVENT
UID:5f4f07e8ee09f02ebff77ec4@squarespace.com
DTSTAMP:20200921T022852Z
DTSTART:20201010T040000Z
DTEND:20201010T070000Z
SUMMARY: Stitched Text in Textile Design with Louise Wilde Cook
GEO:-31.902098;116.166031
LOCATION:Mundaring Arts Centre
END:VEVENT
END:VCALENDAR
