BEGIN:VCALENDAR
VERSION:2.0
PRODID:-//Squarespace Inc/Squarespace 6//v6//EN
BEGIN:VEVENT
UID:5efd7db43b00b819a05eca46@squarespace.com
DTSTAMP:20200914T064959Z
DTSTART:20200802T053000Z
DTEND:20200802T070000Z
SUMMARY:Sheep Show Artist Talks
GEO:-31.902125;116.165992
LOCATION:Mundaring Arts Centre\, 7190 Great Eastern Highway\, Mundaring\, W
 A\, 6073\, Australia
END:VEVENT
END:VCALENDAR
