BEGIN:VCALENDAR
VERSION:2.0
PRODID:-//Squarespace Inc/Squarespace 6//v6//EN
BEGIN:VEVENT
UID:602e1f1072c99d7e756114c2@squarespace.com
DTSTAMP:20210225T083418Z
DTSTART:20210412T020000Z
DTEND:20210412T050000Z
SUMMARY:Rope Coiled Vessels with Leanne Bray 
GEO:-31.889741;116.053752
LOCATION:Swan View Youth Centre
END:VEVENT
END:VCALENDAR
