BEGIN:VCALENDAR
VERSION:2.0
PRODID:-//Squarespace Inc/Squarespace 6//v6//EN
BEGIN:VEVENT
UID:5fdc131d86e8364214067cd3@squarespace.com
DTSTAMP:20210119T021440Z
DTSTART:20210130T040000Z
DTEND:20210130T070000Z
SUMMARY:Recycled Rag Rugs with Sophie Zadeh
GEO:-31.943426;116.202115
LOCATION:Mundaring Arts Centre\, 7190 Great Eastern Highway\, Mundaring\, W
 A\, 6073\, Australia
END:VEVENT
END:VCALENDAR
