BEGIN:VCALENDAR
VERSION:2.0
PRODID:-//Squarespace Inc/Squarespace 6//v6//EN
BEGIN:VEVENT
UID:5ff6b68b4557516188e80e26@squarespace.com
DTSTAMP:20210218T081116Z
DTSTART:20210323T103000Z
DTEND:20210323T120000Z
SUMMARY:Design Skills: Posters &amp\; Invites with Monika Lukowska
GEO:-31.943426;116.202115
LOCATION:Mundaring Arts Centre\, 7190 Great Eastern Highway\, Mundaring\, W
 A\, 6073\, Australia
END:VEVENT
END:VCALENDAR
