BEGIN:VCALENDAR
VERSION:2.0
PRODID:-//Squarespace Inc/Squarespace 6//v6//EN
BEGIN:VEVENT
UID:5ee99357e43a6e2b3094ff63@squarespace.com
DTSTAMP:20200914T064951Z
DTSTART:20200719T070000Z
DTEND:20200719T090000Z
SUMMARY:Photography Field Trip with Duncan Wright: Mundaring Weir
GEO:-31.952248;116.167054
LOCATION:Mundaring Weir Hotel
END:VEVENT
END:VCALENDAR
