BEGIN:VCALENDAR
VERSION:2.0
PRODID:-//Squarespace Inc/Squarespace 6//v6//EN
BEGIN:VEVENT
UID:5f45dd100ab71f197977b630@squarespace.com
DTSTAMP:20200914T064717Z
DTSTART:20201017T040000Z
DTEND:20201017T070000Z
SUMMARY:Pasta Press Prints with Jane Button
GEO:-31.902098;116.166031
LOCATION:Mundaring Arts Centre
END:VEVENT
END:VCALENDAR
