BEGIN:VCALENDAR
VERSION:2.0
PRODID:-//Squarespace Inc/Squarespace 6//v6//EN
BEGIN:VEVENT
UID:5ee30e301a0d140e762b2ec0@squarespace.com
DTSTAMP:20200914T064905Z
DTSTART:20200829T020000Z
DTEND:20200829T050000Z
SUMMARY:Painting Sheep with Alastair Taylor
GEO:-31.902125;116.165992
LOCATION:Mundaring Arts Centre\, 7190 Great Eastern Highway\, Mundaring\, W
 A\, 6073\, Australia
END:VEVENT
END:VCALENDAR
