BEGIN:VCALENDAR
VERSION:2.0
PRODID:-//Squarespace Inc/Squarespace 6//v6//EN
BEGIN:VEVENT
UID:5fdc1733f31c0839904df03e@squarespace.com
DTSTAMP:20210212T065901Z
DTSTART:20210321T030000Z
DTEND:20210321T070000Z
SUMMARY:Mundaring Repair Lab
GEO:-31.943426;116.202115
LOCATION:Mundaring Arts Centre\, 7190 Great Eastern Highway\, Mundaring\, W
 A\, 6073\, Australia
END:VEVENT
END:VCALENDAR
