BEGIN:VCALENDAR
VERSION:2.0
PRODID:-//Squarespace Inc/Squarespace 6//v6//EN
BEGIN:VEVENT
UID:5f4891379528fc5307c1b88f@squarespace.com
DTSTAMP:20201001T073208Z
DTSTART:20201025T040000Z
DTEND:20201025T070000Z
SUMMARY:Mastering Coloured Pencils with Marie Haass
GEO:-31.902098;116.166031
LOCATION:Mundaring Arts Centre
END:VEVENT
END:VCALENDAR
