BEGIN:VCALENDAR
VERSION:2.0
PRODID:-//Squarespace Inc/Squarespace 6//v6//EN
BEGIN:VEVENT
UID:5fe15cd025b6576954776d92@squarespace.com
DTSTAMP:20210216T080310Z
DTSTART:20210314T013000Z
DTEND:20210314T050000Z
SUMMARY:Kung-Fu Tea Ceremony with Carol Natalotto
GEO:-31.943426;116.202115
LOCATION:Mundaring Arts Centre\, 7190 Great Eastern Highway\, Mundaring\, W
 A\, 6073\, Australia
END:VEVENT
END:VCALENDAR
