BEGIN:VCALENDAR
VERSION:2.0
PRODID:-//Squarespace Inc/Squarespace 6//v6//EN
BEGIN:VEVENT
UID:5fd6f4b0034a586a4f58b2ac@squarespace.com
DTSTAMP:20210129T071944Z
DTSTART:20210227T030000Z
DTEND:20210227T070000Z
SUMMARY:Itajime and Ori-Nui Shibori with Vicki Ames
GEO:-31.943426;116.202115
LOCATION:Mundaring Arts Centre\, 7190 Great Eastern Highway\, Mundaring\, W
 A\, 6073\, Australia
END:VEVENT
END:VCALENDAR
