BEGIN:VCALENDAR
VERSION:2.0
PRODID:-//Squarespace Inc/Squarespace 6//v6//EN
BEGIN:VEVENT
UID:5ff6b3244557516188e7cfdf@squarespace.com
DTSTAMP:20210204T082604Z
DTSTART:20210209T020000Z
DTEND:20210209T043000Z
SUMMARY:Instagram Basics with Boss Centre
GEO:-31.943426;116.202115
LOCATION:Mundaring Arts Centre\, 7190 Great Eastern Highway\, Mundaring\, W
 A\, 6073\, Australia
END:VEVENT
END:VCALENDAR
