BEGIN:VCALENDAR
VERSION:2.0
PRODID:-//Squarespace Inc/Squarespace 6//v6//EN
BEGIN:VEVENT
UID:602b7a75e5d7be134f355111@squarespace.com
DTSTAMP:20210216T080004Z
DTSTART:20210314T013000Z
DTEND:20210314T053000Z
SUMMARY:Have a Go Clay Plates with Bernard Kerr
GEO:-31.903901;116.156325
LOCATION:Mundaring Sculpture Park\, Jacoby St\, Mundaring\, WA\, 6073\, Aus
 tralia
END:VEVENT
END:VCALENDAR
