BEGIN:VCALENDAR
VERSION:2.0
PRODID:-//Squarespace Inc/Squarespace 6//v6//EN
BEGIN:VEVENT
UID:5f45cb3d14efc67813ec65eb@squarespace.com
DTSTAMP:20200925T015955Z
DTSTART:20200930T020000Z
DTEND:20200930T040000Z
SUMMARY:Gelli Print (Fun!)damentals with Leanne Bray
GEO:-31.902098;116.166031
LOCATION:Mundaring Arts Centre
END:VEVENT
END:VCALENDAR
