BEGIN:VCALENDAR
VERSION:2.0
PRODID:-//Squarespace Inc/Squarespace 6//v6//EN
BEGIN:VEVENT
UID:5f45cbca7300a35275e1007f@squarespace.com
DTSTAMP:20200914T064744Z
DTSTART:20201024T040000Z
DTEND:20201024T070000Z
SUMMARY:Gelli Plate Printmaking with Leanne Bray
GEO:-31.902098;116.166031
LOCATION:Mundaring Arts Centre
END:VEVENT
END:VCALENDAR
