BEGIN:VCALENDAR
VERSION:2.0
PRODID:-//Squarespace Inc/Squarespace 6//v6//EN
BEGIN:VEVENT
UID:5c9074b2e2c48363df7c61d7@squarespace.com
DTSTAMP:20201215T051930Z
DTSTART:20210130T030000Z
DTEND:20211224T070000Z
SUMMARY:Gallery Tours for Schools and Groups 
GEO:-31.902125;116.165992
LOCATION:Mundaring Arts Centre\, 7190 Great Eastern Highway\, Mundaring\, W
 A\, 6073\, Australia
END:VEVENT
END:VCALENDAR
