BEGIN:VCALENDAR
VERSION:2.0
PRODID:-//Squarespace Inc/Squarespace 6//v6//EN
BEGIN:VEVENT
UID:5effffd4f65fdc5e99d7f41b@squarespace.com
DTSTAMP:20200914T064938Z
DTSTART:20200808T020000Z
DTEND:20200808T020000Z
SUMMARY:From Fleece to Thread with Anne Williams
GEO:-31.902098;116.166031
LOCATION:Mundaring Arts Centre
END:VEVENT
END:VCALENDAR
