BEGIN:VCALENDAR
VERSION:2.0
PRODID:-//Squarespace Inc/Squarespace 6//v6//EN
BEGIN:VEVENT
UID:5fe16253c5e8614de8b81470@squarespace.com
DTSTAMP:20210217T034336Z
DTSTART:20210314T010000Z
DTEND:20210314T070000Z
SUMMARY:Food for Thought at Mundaring Markets
GEO:-31.901967;116.166331
LOCATION:Mundaring Rotary Markets\, Nichol Street\, Mundaring\, WA\, 6073\, 
 Australia
END:VEVENT
END:VCALENDAR
