BEGIN:VCALENDAR
VERSION:2.0
PRODID:-//Squarespace Inc/Squarespace 6//v6//EN
BEGIN:VEVENT
UID:5f45dba7ac873c4bc48ca29e@squarespace.com
DTSTAMP:20200929T035351Z
DTSTART:20201001T020000Z
DTEND:20201001T040000Z
SUMMARY:Foam Print Portraits with Jane Button 
GEO:-31.902098;116.166031
LOCATION:Mundaring Arts Centre
END:VEVENT
END:VCALENDAR
