BEGIN:VCALENDAR
VERSION:2.0
PRODID:-//Squarespace Inc/Squarespace 6//v6//EN
BEGIN:VEVENT
UID:5e96b11623114074151af62c@squarespace.com
DTSTAMP:20200914T064314Z
DTSTART:20200917T020000Z
DTEND:20200917T043000Z
SUMMARY:Finance Basics for Artists with BOSS Centre
END:VEVENT
END:VCALENDAR
