BEGIN:VCALENDAR
VERSION:2.0
PRODID:-//Squarespace Inc/Squarespace 6//v6//EN
BEGIN:VEVENT
UID:6020ec9d3946b524f13e55b0@squarespace.com
DTSTAMP:20210211T060237Z
DTSTART:20210507T023000Z
DTEND:20210508T063000Z
SUMMARY:Fibre Vessels with Kate Campbell-Pope
GEO:-31.943426;116.202115
LOCATION:Mundaring Arts Centre\, 7190 Great Eastern Highway\, Mundaring\, W
 A\, 6073\, Australia
END:VEVENT
END:VCALENDAR
