BEGIN:VCALENDAR
VERSION:2.0
PRODID:-//Squarespace Inc/Squarespace 6//v6//EN
BEGIN:VEVENT
UID:5ee311e116addd387d96dc3c@squarespace.com
DTSTAMP:20200914T064851Z
DTSTART:20200905T020000Z
DTEND:20200905T050000Z
SUMMARY:Felted Bangles\, Rings and Things with Katrina Virgona
GEO:-31.902125;116.165992
LOCATION:Mundaring Arts Centre\, 7190 Great Eastern Highway\, Mundaring\, W
 A\, 6073\, Australia
END:VEVENT
END:VCALENDAR
