BEGIN:VCALENDAR
VERSION:2.0
PRODID:-//Squarespace Inc/Squarespace 6//v6//EN
BEGIN:VEVENT
UID:5f45e5cee40ca60c063c43c4@squarespace.com
DTSTAMP:20200914T064526Z
DTSTART:20201004T060000Z
DTEND:20201018T063000Z
SUMMARY:Discernible Sequence Artist talks with Leanne Bray
GEO:-31.902125;116.165992
LOCATION:Mundaring Arts Centre\, 7190 Great Eastern Highway\, Mundaring\, A
 ustralia
END:VEVENT
END:VCALENDAR
