BEGIN:VCALENDAR
VERSION:2.0
PRODID:-//Squarespace Inc/Squarespace 6//v6//EN
BEGIN:VEVENT
UID:5fdc13cd99d54e3fc072cee7@squarespace.com
DTSTAMP:20201222T061503Z
DTSTART:20210306T040000Z
DTEND:20210306T070000Z
SUMMARY:Deadly Denim Jackets with Rebecca Rickard
GEO:-31.943426;116.202115
LOCATION:Mundaring Arts Centre\, 7190 Great Eastern Highway\, Mundaring\, W
 A\, 6073\, Australia
END:VEVENT
END:VCALENDAR
