BEGIN:VCALENDAR
VERSION:2.0
PRODID:-//Squarespace Inc/Squarespace 6//v6//EN
BEGIN:VEVENT
UID:5e55df493a3ac32ca37a4bcf@squarespace.com
DTSTAMP:20200914T064552Z
DTSTART:20201008T020000Z
DTEND:20201008T050000Z
SUMMARY:Colour Crush Jewellery Design with ka:ke Studio
GEO:-31.902125;116.165992
LOCATION:Mundaring Arts Centre\, 7190 Great Eastern Highway\, Mundaring\, W
 A\, 6073\, Australia
END:VEVENT
END:VCALENDAR
