BEGIN:VCALENDAR
VERSION:2.0
PRODID:-//Squarespace Inc/Squarespace 6//v6//EN
BEGIN:VEVENT
UID:5f45d53176e6b51846569470@squarespace.com
DTSTAMP:20201008T032013Z
DTSTART:20201031T040000Z
DTEND:20201031T070000Z
SUMMARY:Coil &amp\; Stitch Vessels with Leanne Bray
GEO:-31.902098;116.166031
LOCATION:Mundaring Arts Centre
END:VEVENT
END:VCALENDAR
