BEGIN:VCALENDAR
VERSION:2.0
PRODID:-//Squarespace Inc/Squarespace 6//v6//EN
BEGIN:VEVENT
UID:5f45ca84f5e5f93a319f3b93@squarespace.com
DTSTAMP:20200925T020003Z
DTSTART:20201002T020000Z
DTEND:20201002T040000Z
SUMMARY:Coil &amp\; Stitch Sculpture with Leanne Bray
GEO:-31.902098;116.166031
LOCATION:Mundaring Arts Centre
END:VEVENT
END:VCALENDAR
