BEGIN:VCALENDAR
VERSION:2.0
PRODID:-//Squarespace Inc/Squarespace 6//v6//EN
BEGIN:VEVENT
UID:5fcf3a7401eaf4591e24ffa7@squarespace.com
DTSTAMP:20201208T084148Z
DTSTART:20201217T090000Z
DTEND:20201217T120000Z
SUMMARY:Christmas Shopping Night
GEO:-31.943426;116.202115
LOCATION:Mundaring Arts Centre\, 7190 Great Eastern Highway\, Mundaring\, W
 A\, 6073\, Australia
END:VEVENT
END:VCALENDAR
