BEGIN:VCALENDAR
VERSION:2.0
PRODID:-//Squarespace Inc/Squarespace 6//v6//EN
BEGIN:VEVENT
UID:5fe051d97f4e6a336750962b@squarespace.com
DTSTAMP:20210217T034130Z
DTSTART:20210314T024500Z
DTEND:20210314T041500Z
SUMMARY:Bush Tucker Talk and Tasting with Dale Tilbrook
GEO:-31.943426;116.202115
LOCATION:Mundaring Arts Centre\, 7190 Great Eastern Highway\, Mundaring\, W
 A\, 6073\, Australia
END:VEVENT
END:VCALENDAR
