BEGIN:VCALENDAR
VERSION:2.0
PRODID:-//Squarespace Inc/Squarespace 6//v6//EN
BEGIN:VEVENT
UID:601b82db5cf5f9613b897ad4@squarespace.com
DTSTAMP:20210204T051632Z
DTSTART:20210525T100000Z
DTEND:20210525T110000Z
SUMMARY:PHOTOGRAPH YOUR ART WITH BO WONG
GEO:-31.943426;116.202115
LOCATION:Mundaring Arts Centre\, 7190 Great Eastern Highway\, Mundaring\, W
 A\, 6073\, Australia
END:VEVENT
END:VCALENDAR
