BEGIN:VCALENDAR
VERSION:2.0
PRODID:-//Squarespace Inc/Squarespace 6//v6//EN
BEGIN:VEVENT
UID:5ef1a2d03a304045c6983205@squarespace.com
DTSTAMP:20200914T064920Z
DTSTART:20200815T050000Z
DTEND:20200815T080000Z
SUMMARY:Afternoon Stitch with Emma Buswell
GEO:-31.902125;116.165992
LOCATION:Mundaring Arts Centre\, 7190 Great Eastern Highway\, Mundaring\, W
 A\, 6073\, Australia
END:VEVENT
END:VCALENDAR
