BEGIN:VCALENDAR
VERSION:2.0
PRODID:-//Squarespace Inc/Squarespace 6//v6//EN
BEGIN:VEVENT
UID:6024a6f1ffd22666569edb13@squarespace.com
DTSTAMP:20210211T060149Z
DTSTART:20210415T020000Z
DTEND:20210417T043000Z
SUMMARY:A-maize-ing Baskets with Kate Campbell-Pope
GEO:-31.943426;116.202115
LOCATION:Mundaring Arts Centre\, 7190 Great Eastern Highway\, Mundaring\, W
 A\, 6073\, Australia
END:VEVENT
END:VCALENDAR
