BEGIN:VCALENDAR
VERSION:2.0
PRODID:-//Squarespace Inc/Squarespace 6//v6//EN
BEGIN:VEVENT
UID:5a5d6961c8302520d471446c@squarespace.com
DTSTAMP:20190506T041146Z
DTSTART:20180601T110000Z
DTEND:20180715T070000Z
SUMMARY:Woldendorp: A Black and White Retrospective
GEO:-31.902125;116.165992
LOCATION:Mundaring Arts Centre | Gallery 1\, 7190 Great Eastern Highway\, M
 undaring\, WA\, 6073\, Australia
END:VEVENT
END:VCALENDAR
