BEGIN:VCALENDAR
VERSION:2.0
PRODID:-//Squarespace Inc/Squarespace 6//v6//EN
BEGIN:VEVENT
UID:60239565917e0a30b24eea7a@squarespace.com
DTSTAMP:20210210T082022Z
DTSTART:20210605T030000Z
DTEND:20210801T070000Z
SUMMARY:Urban
GEO:-31.902125;116.165992
LOCATION:Mundaring Arts Centre | Gallery 1\, 7190 Great Eastern Highway\, M
 undaring\, WA\, 6073\, Australia
END:VEVENT
END:VCALENDAR
