BEGIN:VCALENDAR
VERSION:2.0
PRODID:-//Squarespace Inc/Squarespace 6//v6//EN
BEGIN:VEVENT
UID:5c46dd144ae23787ae4e8eb8@squarespace.com
DTSTAMP:20191102T065103Z
DTSTART:20191101T110000Z
DTEND:20191222T070000Z
SUMMARY:Things with Wings
GEO:-31.943426;116.202115
LOCATION:Mundaring Arts Centre | Gallery 2\, 7190 Great Eastern Highway\, M
 undaring\, WA\, 6073\, Australia
END:VEVENT
END:VCALENDAR
