BEGIN:VCALENDAR
VERSION:2.0
PRODID:-//Squarespace Inc/Squarespace 6//v6//EN
BEGIN:VEVENT
UID:5c46d64c4d7a9ccfd0d7fdf1@squarespace.com
DTSTAMP:20191016T020622Z
DTSTART:20190524T110000Z
DTEND:20190707T070000Z
SUMMARY:The Face of Fingerprints
GEO:-31.918562;116.198682
LOCATION:Mundaring Arts Centre | Gallery 2\, 7190 Great Eastern Highway\, M
 undaring\, WA\, 6073\, Australia
END:VEVENT
END:VCALENDAR
