BEGIN:VCALENDAR
VERSION:2.0
PRODID:-//Squarespace Inc/Squarespace 6//v6//EN
BEGIN:VEVENT
UID:5b21d55b70a6ad8b210eea47@squarespace.com
DTSTAMP:20190506T044503Z
DTSTART:20180811T020000Z
DTEND:20180928T090000Z
SUMMARY:Tea Ware
GEO:-31.943426;116.202115
LOCATION:Midland Junction Arts Centre - The Store\, 276 Great Eastern Highw
 ay\, Midland\, WA\, 6056\, Australia
END:VEVENT
END:VCALENDAR
