BEGIN:VCALENDAR
VERSION:2.0
PRODID:-//Squarespace Inc/Squarespace 6//v6//EN
BEGIN:VEVENT
UID:5ae813d42b6a280e79a7b65e@squarespace.com
DTSTAMP:20190506T042752Z
DTSTART:20180530T020000Z
DTEND:20180629T090000Z
SUMMARY:Swan Environmental Art Project 
GEO:-31.902125;116.165992
LOCATION:Midland Junction Arts Centre | The Store\, 276 Great Eastern Highw
 ay\, Midland\, WA\, 6056\, Australia
END:VEVENT
END:VCALENDAR
