BEGIN:VCALENDAR
VERSION:2.0
PRODID:-//Squarespace Inc/Squarespace 6//v6//EN
BEGIN:VEVENT
UID:5c46d0b803ce64e2d21cc284@squarespace.com
DTSTAMP:20191016T020738Z
DTSTART:20190405T110000Z
DTEND:20190519T070000Z
SUMMARY:Survival: Fight or Flight
GEO:-31.943426;116.202115
LOCATION:Mundaring Arts Centre | Gallery 1\, 7190 Great Eastern Highway\, M
 undaring\, WA\, 6073\, Australia
END:VEVENT
END:VCALENDAR
