BEGIN:VCALENDAR
VERSION:2.0
PRODID:-//Squarespace Inc/Squarespace 6//v6//EN
BEGIN:VEVENT
UID:5c46deecc74c5024875aaf85@squarespace.com
DTSTAMP:20191218T060337Z
DTSTART:20191101T110000Z
DTEND:20191222T070000Z
SUMMARY:Surface Tension
GEO:-31.943426;116.202115
LOCATION:Mundaring Arts Centre | Gallery 1\, 7190 Great Eastern Highway\, M
 undaring\, WA\, 6073\, Australia
END:VEVENT
END:VCALENDAR
