BEGIN:VCALENDAR
VERSION:2.0
PRODID:-//Squarespace Inc/Squarespace 6//v6//EN
BEGIN:VEVENT
UID:5af151a01ae6cf6e52d3f939@squarespace.com
DTSTAMP:20190506T042832Z
DTSTART:20180525T103000Z
DTEND:20180629T090000Z
SUMMARY:Specimens 
GEO:-31.890264;116.006329
LOCATION:Midland Junction Arts Centre | East Gallery\, 276 Great Eastern Hi
 ghway\, Midland\, WA\, 6056\, Australia
END:VEVENT
END:VCALENDAR
