BEGIN:VCALENDAR
VERSION:2.0
PRODID:-//Squarespace Inc/Squarespace 6//v6//EN
BEGIN:VEVENT
UID:5b21d94f03ce6459ac4a7adc@squarespace.com
DTSTAMP:20190904T022111Z
DTSTART:20181007T030000Z
DTEND:20181116T090000Z
SUMMARY:Remembering Tomorrow
GEO:-31.943426;116.202115
LOCATION:Midland Junction Arts Centre - West Gallery & The Store\, 276 Grea
 t Eastern Highway\, Midland\, WA\, 6056\, Australia
END:VEVENT
END:VCALENDAR
