BEGIN:VCALENDAR
VERSION:2.0
PRODID:-//Squarespace Inc/Squarespace 6//v6//EN
BEGIN:VEVENT
UID:5b21dc47758d469f8d775160@squarespace.com
DTSTAMP:20190904T022131Z
DTSTART:20181007T030000Z
DTEND:20181116T090000Z
SUMMARY:Re-Imagined Railyard
GEO:-31.943426;116.202115
LOCATION:Midland Junction Arts Centre - East Gallery\, 276 Great Eastern Hi
 ghway\, Midland\, WA\, 6056\, Australia
END:VEVENT
END:VCALENDAR
