BEGIN:VCALENDAR
VERSION:2.0
PRODID:-//Squarespace Inc/Squarespace 6//v6//EN
BEGIN:VEVENT
UID:5c46d8ba4ae23787ae4e79f2@squarespace.com
DTSTAMP:20191016T020607Z
DTSTART:20190719T110000Z
DTEND:20190908T070000Z
SUMMARY:Princeon
GEO:-31.943426;116.202115
LOCATION:Mundaring Arts Centre | Gallery 2\, 7190 Great Eastern Highway\, M
 undaring\, WA\, 6073\, Australia
END:VEVENT
END:VCALENDAR
