BEGIN:VCALENDAR
VERSION:2.0
PRODID:-//Squarespace Inc/Squarespace 6//v6//EN
BEGIN:VEVENT
UID:5b21e0791ae6cf0f3f8a6ee9@squarespace.com
DTSTAMP:20190904T021922Z
DTSTART:20181124T103000Z
DTEND:20181221T090000Z
SUMMARY:Of Our Time - Ordinary Lives
GEO:-31.943426;116.202115
LOCATION:Midland Junction Arts Centre - East Gallery\, 276 Great Eastern Hi
 ghway\, Midland\, WA\, 6056\, Australia
END:VEVENT
END:VCALENDAR
