BEGIN:VCALENDAR
VERSION:2.0
PRODID:-//Squarespace Inc/Squarespace 6//v6//EN
BEGIN:VEVENT
UID:5b21df8e6d2a73e91522015b@squarespace.com
DTSTAMP:20190506T044826Z
DTSTART:20181124T103000Z
DTEND:20181221T090000Z
SUMMARY:Lost Soles
GEO:-31.943426;116.202115
LOCATION:Midland Junction Arts Centre - The Store\, 276 Great Eastern Highw
 ay\, Midland\, WA\, 6056\, Australia
END:VEVENT
END:VCALENDAR
