BEGIN:VCALENDAR
VERSION:2.0
PRODID:-//Squarespace Inc/Squarespace 6//v6//EN
BEGIN:VEVENT
UID:5a613c790852295a972091c2@squarespace.com
DTSTAMP:20190506T042716Z
DTSTART:20180525T103000Z
DTEND:20180629T090000Z
SUMMARY:Wiru
GEO:-31.890267;116.006725
LOCATION:Midland Junction Arts Centre | West Gallery\, 276 Great Eastern Hi
 ghway\, Midland\, WA\, 6056\, Australia
END:VEVENT
END:VCALENDAR
